BEGIN:VCALENDAR
VERSION:2.0
PRODID:-//Tukios.com/
BEGIN:VEVENT
UID:a74badda-7d58-4d93-a24c-0fedcf327a1e@www.ziegenheinfuneralhome.com
DTSTAMP:20260421T081318Z
DTSTART:20260303T160000Z
DTEND:20260303T170000Z
SUMMARY:Visitation
DESCRIPTION:
URL:https://www.ziegenheinfuneralhome.com/obituaries/jack-jacobs
LOCATION: 4830 Lemay Ferry Rd  St. Louis MO 63129
GEO:38.4909783;-90.3460954
END:VEVENT
END:VCALENDAR