BEGIN:VCALENDAR
VERSION:2.0
PRODID:-//Tukios.com/
BEGIN:VEVENT
UID:3333f316-b44b-461f-b2ed-078f6bca373c@www.ziegenheinfuneralhome.com
DTSTAMP:20260424T213140Z
DTSTART:20260430T210000Z
DTEND:20260501T010000Z
SUMMARY:Visitation
DESCRIPTION:
URL:https://www.ziegenheinfuneralhome.com/obituaries/shirley-nottelmann
LOCATION: 4830 Lemay Ferry Rd  St. Louis MO 63129
GEO:38.4909783;-90.3460953
END:VEVENT
END:VCALENDAR