BEGIN:VCALENDAR
VERSION:2.0
PRODID:-//Tukios.com/
BEGIN:VEVENT
UID:955e70f4-c688-4a9d-ba3a-618a79163539@www.ziegenheinfuneralhome.com
DTSTAMP:20260424T213016Z
DTSTART:20260501T150000Z
DTEND:20260501T160000Z
SUMMARY:Funeral Service
DESCRIPTION:
URL:https://www.ziegenheinfuneralhome.com/obituaries/shirley-nottelmann
LOCATION: 4830 Lemay Ferry Rd  St. Louis MO 63129
GEO:38.4909783;-90.3460953
END:VEVENT
END:VCALENDAR