BEGIN:VCALENDAR
VERSION:2.0
PRODID:-//Tukios.com/
BEGIN:VEVENT
UID:11551f78-7bf2-4726-8560-07530c190ae8@www.ziegenheinfuneralhome.com
DTSTAMP:20260424T213041Z
DTSTART:20260501T160000Z
DTEND:20260501T170000Z
SUMMARY:Cemetery Ceremony
DESCRIPTION:
URL:https://www.ziegenheinfuneralhome.com/obituaries/shirley-nottelmann
LOCATION: 2900 Sheridan Rd  St. Louis MO 63125
GEO:38.5014138;-90.2881671
END:VEVENT
END:VCALENDAR