BEGIN:VCALENDAR
VERSION:2.0
PRODID:-//Tukios.com/
BEGIN:VEVENT
UID:43c7d40d-df2f-4017-8cc3-9f4a38490b3c@www.ziegenheinfuneralhome.com
DTSTAMP:20260420T084502Z
DTSTART:20260416T230000Z
DTEND:20260417T000000Z
SUMMARY:Funeral Service
DESCRIPTION:
URL:https://www.ziegenheinfuneralhome.com/obituaries/william-rabbermann
LOCATION: 4830 Lemay Ferry Rd  St. Louis MO 63129
GEO:38.4909783;-90.3460954
END:VEVENT
END:VCALENDAR